BEGIN:VCALENDAR
VERSION:2.0
PRODID:https://anup.org.br
BEGIN:VEVENT
UID:69ead7e3849f5
DTSTART:20210707T190000Z
SEQUENCE:0
TRANSP:OPAQUE
DTEND:20210709T010000Z
URL:https://anup.org.br/eventos/1a-jornada-da-trabalhabilidade/
SUMMARY:[ANUP] 1ª Jornada da Trabalhabilidade
CLASS:PUBLIC
DTSTAMP:20260424T023931Z
END:VEVENT
END:VCALENDAR