BEGIN:VCALENDAR
VERSION:2.0
PRODID:https://anup.org.br
BEGIN:VEVENT
UID:69e4dcce43922
DTSTART:20230201T180000Z
SEQUENCE:0
TRANSP:OPAQUE
DTEND:20230101T220000Z
URL:https://anup.org.br/eventos/a-expansao-do-ensino-superior-no-brasil-vej
 a-os-caminhos-para-mais-matriculas-com-maior-qualidade-2/
LOCATION:Online
SUMMARY:[ANUP] A expansão do Ensino Superior no Brasil. Veja os caminhos p
 ara mais matrículas com maior qualidade.
CLASS:PUBLIC
DTSTAMP:20260419T134654Z
END:VEVENT
END:VCALENDAR