BEGIN:VCALENDAR
VERSION:2.0
PRODID:https://anup.org.br
BEGIN:VEVENT
UID:69eafdd4bda27
DTSTART:20231116T120000Z
SEQUENCE:0
TRANSP:OPAQUE
DTEND:20231116T160000Z
URL:https://anup.org.br/eventos/as-prioridades-do-mec-e-o-papel-das-ies-par
 ticulares-na-consulta-publica-sobre-ead/
LOCATION:Online
SUMMARY:[ANUP] As prioridades do MEC e o papel das IES particulares na cons
 ulta pública sobre EaD
CLASS:PUBLIC
DTSTAMP:20260424T052124Z
END:VEVENT
END:VCALENDAR