BEGIN:VCALENDAR
VERSION:2.0
PRODID:https://anup.org.br
BEGIN:VEVENT
UID:69e8c7d0cdf13
DTSTART:20231101T120000Z
SEQUENCE:0
TRANSP:OPAQUE
DTEND:20231101T163000Z
URL:https://anup.org.br/eventos/as-prioridades-do-mec-e-o-papel-das-ies-par
 ticulares-na-consulta-publica-sobre-educacao-a-distancia-ead/
LOCATION:Online
SUMMARY:[ANUP] As prioridades do MEC e o papel das IES particulares na cons
 ulta pública sobre Educação a Distância (EaD)
CLASS:PUBLIC
DTSTAMP:20260422T130624Z
END:VEVENT
END:VCALENDAR