BEGIN:VCALENDAR
VERSION:2.0
PRODID:https://anup.org.br
BEGIN:VEVENT
UID:69ead7cf5c512
DTSTART:20210825T180000Z
SEQUENCE:0
TRANSP:OPAQUE
DTEND:20210827T000000Z
URL:https://anup.org.br/eventos/captacao-e-permanencia-de-alunos/
SUMMARY:[ANUP] Captação e Permanência de alunos
CLASS:PUBLIC
DTSTAMP:20260424T023911Z
END:VEVENT
END:VCALENDAR