BEGIN:VCALENDAR
VERSION:2.0
PRODID:https://anup.org.br
BEGIN:VEVENT
UID:69ead8ef73daf
DTSTART:20210414T220000Z
SEQUENCE:0
TRANSP:OPAQUE
DTEND:20210414T030000Z
URL:https://anup.org.br/eventos/como-fazer-sua-instituicao-de-ensino-cresce
 r-em-tempos-de-pandemia/
SUMMARY:[ANUP] Como fazer sua instituição de ensino crescer em tempos de 
 pandemia?
CLASS:PUBLIC
DTSTAMP:20260424T024359Z
END:VEVENT
END:VCALENDAR