BEGIN:VCALENDAR
VERSION:2.0
PRODID:https://anup.org.br
BEGIN:VEVENT
UID:69eaec9883219
DTSTART:20230329T120000Z
SEQUENCE:0
TRANSP:OPAQUE
DTEND:20230401T003000Z
URL:https://anup.org.br/eventos/congresso-geduc-debatera-os-novos-caminhos-
 da-educacao-em-2023/
LOCATION:São Paulo - SP
SUMMARY:[ANUP] Congresso GEduc debaterá os novos caminhos da educação em
  2023
CLASS:PUBLIC
DTSTAMP:20260424T040752Z
END:VEVENT
END:VCALENDAR