BEGIN:VCALENDAR
VERSION:2.0
PRODID:https://anup.org.br
BEGIN:VEVENT
UID:69eafbce66d99
DTSTART:20230624T120000Z
SEQUENCE:0
TRANSP:OPAQUE
DTEND:20230624T230000Z
URL:https://anup.org.br/eventos/curso-legislacao-educacional-para-gestores-
 educacionais/
LOCATION:Online
SUMMARY:[ANUP] Curso: Legislação Educacional para Gestores Educacionais
CLASS:PUBLIC
DTSTAMP:20260424T051246Z
END:VEVENT
END:VCALENDAR