BEGIN:VCALENDAR
VERSION:2.0
PRODID:https://anup.org.br
BEGIN:VEVENT
UID:69e4dc6ae20c9
DTSTART:20230209T150000Z
SEQUENCE:0
TRANSP:OPAQUE
DTEND:20230209T190000Z
URL:https://anup.org.br/eventos/demografia-medica-e-especializacao-na-medic
 ina-gargalos-na-formacao/
LOCATION:Online
SUMMARY:[ANUP] Demografia Médica e Especialização na Medicina: gargalos 
 na formação
CLASS:PUBLIC
DTSTAMP:20260419T134514Z
END:VEVENT
END:VCALENDAR