BEGIN:VCALENDAR
VERSION:2.0
PRODID:https://anup.org.br
BEGIN:VEVENT
UID:69eafbf9a24e4
DTSTART:20231221T190000Z
SEQUENCE:0
TRANSP:OPAQUE
DTEND:20231221T230000Z
URL:https://anup.org.br/eventos/evento-online-abordara-consulta-publica-do-
 e-mec-sobre-diploma-digital-e-acervo-academico/
LOCATION:Online
SUMMARY:[ANUP] Evento online abordará consulta pública do e-MEC sobre dip
 loma digital e acervo acadêmico
CLASS:PUBLIC
DTSTAMP:20260424T051329Z
END:VEVENT
END:VCALENDAR