BEGIN:VCALENDAR
VERSION:2.0
PRODID:https://anup.org.br
BEGIN:VEVENT
UID:69eafd6ec45b1
DTSTART:20240201T180000Z
SEQUENCE:0
TRANSP:OPAQUE
DTEND:20240201T220000Z
URL:https://anup.org.br/eventos/expectativas-e-realidade-o-que-se-espera-da
 -agencia-reguladora-do-ensino-superior/
LOCATION:Online
SUMMARY:[ANUP] Expectativas e realidade: o que se espera da Agência Regula
 dora do Ensino Superior?
CLASS:PUBLIC
DTSTAMP:20260424T051942Z
END:VEVENT
END:VCALENDAR