BEGIN:VCALENDAR
VERSION:2.0
PRODID:https://anup.org.br
BEGIN:VEVENT
UID:69eafb8563370
DTSTART:20240312T180000Z
SEQUENCE:0
TRANSP:OPAQUE
DTEND:20240312T223000Z
URL:https://anup.org.br/eventos/fies-social-desafios-e-direcoes/
LOCATION:Online
SUMMARY:[ANUP] Fies Social: desafios e direções
CLASS:PUBLIC
DTSTAMP:20260424T051133Z
END:VEVENT
END:VCALENDAR