BEGIN:VCALENDAR
VERSION:2.0
PRODID:https://anup.org.br
BEGIN:VEVENT
UID:69eafbf99e226
DTSTART:20240403T113000Z
SEQUENCE:0
TRANSP:OPAQUE
DTEND:20240406T003000Z
URL:https://anup.org.br/eventos/geduc-2024-educacao-por-essencia-construind
 o-trajetoria/
LOCATION:São Paulo
SUMMARY:[ANUP] GEduc 2024: &#8220\;Educação por essência: construindo tr
 ajetória&#8221\;
CLASS:PUBLIC
DTSTAMP:20260424T051329Z
END:VEVENT
END:VCALENDAR