BEGIN:VCALENDAR
VERSION:2.0
PRODID:https://anup.org.br
BEGIN:VEVENT
UID:69eaec8b64e39
DTSTART:20250728T120000Z
SEQUENCE:0
TRANSP:OPAQUE
DTEND:20250728T180000Z
URL:https://anup.org.br/eventos/ia-na-educacao-inovacao-regulacao-e-dialogo
 -entre-setores/
LOCATION:Online
SUMMARY:[ANUP] IA na Educação: inovação\, regulação e diálogo entre 
 setores
CLASS:PUBLIC
DTSTAMP:20260424T040739Z
END:VEVENT
END:VCALENDAR