BEGIN:VCALENDAR
VERSION:2.0
PRODID:https://anup.org.br
BEGIN:VEVENT
UID:69eada7098895
DTSTART:20211210T220000Z
SEQUENCE:0
TRANSP:OPAQUE
DTEND:20211210T033000Z
URL:https://anup.org.br/eventos/ii-forum-da-clinica-psicomotora/
LOCATION:Online
SUMMARY:[ANUP] II Fórum da Clínica Psicomotora
CLASS:PUBLIC
DTSTAMP:20260424T025024Z
END:VEVENT
END:VCALENDAR