BEGIN:VCALENDAR
VERSION:2.0
PRODID:https://anup.org.br
BEGIN:VEVENT
UID:69e4dbb45d541
DTSTART:20221206T170000Z
SEQUENCE:0
TRANSP:OPAQUE
DTEND:20221206T230000Z
URL:https://anup.org.br/eventos/ii-salao-de-extensao-unipar/
LOCATION:Online
SUMMARY:[ANUP] II Salão de Extensão UNIPAR
CLASS:PUBLIC
DTSTAMP:20260419T134212Z
END:VEVENT
END:VCALENDAR