BEGIN:VCALENDAR
VERSION:2.0
PRODID:https://anup.org.br
BEGIN:VEVENT
UID:69eaec87ef39a
DTSTART:20230213T130000Z
SEQUENCE:0
TRANSP:OPAQUE
DTEND:20230213T170000Z
URL:https://anup.org.br/eventos/inteligencia-artificial-potencialidades-e-a
 plicacoes-na-educacao-superior/
LOCATION:Online
SUMMARY:[ANUP] Inteligência Artificial: Potencialidades e aplicações na 
 Educação Superior
CLASS:PUBLIC
DTSTAMP:20260424T040735Z
END:VEVENT
END:VCALENDAR