BEGIN:VCALENDAR
VERSION:2.0
PRODID:https://anup.org.br
BEGIN:VEVENT
UID:69eafbd3dfc74
DTSTART:20240311T113000Z
SEQUENCE:0
TRANSP:OPAQUE
DTEND:20240315T010000Z
URL:https://anup.org.br/eventos/iv-conbraed-congresso-brasileiro-de-educaca
 o-a-distancia/
LOCATION:Online
SUMMARY:[ANUP] IV CONBRAED &#8211\; Congresso Brasileiro de Educação a Di
 stância
CLASS:PUBLIC
DTSTAMP:20260424T051251Z
END:VEVENT
END:VCALENDAR