BEGIN:VCALENDAR
VERSION:2.0
PRODID:https://anup.org.br
BEGIN:VEVENT
UID:69e4dc191662f
DTSTART:20221128T120000Z
SEQUENCE:0
TRANSP:OPAQUE
DTEND:20221128T163000Z
URL:https://anup.org.br/eventos/live-a-educacao-a-distancia-ead-brasileira-
 nos-aspectos-tecnologicos-pedagogicos-e-regulatorios/
LOCATION:Online
SUMMARY:[ANUP] Live: &#8220\;A Educação a Distância (EaD) brasileira nos
  aspectos tecnológicos\, pedagógicos e regulatórios&#8221\;
CLASS:PUBLIC
DTSTAMP:20260419T134353Z
END:VEVENT
END:VCALENDAR