BEGIN:VCALENDAR
VERSION:2.0
PRODID:https://anup.org.br
BEGIN:VEVENT
UID:69ead9cf80908
DTSTART:20220822T190000Z
SEQUENCE:0
TRANSP:OPAQUE
DTEND:20220823T020000Z
URL:https://anup.org.br/eventos/nova-portaria-no-613-de-18-de-agosto-de-202
 2-acervo-digital/
SUMMARY:[ANUP] NOVA PORTARIA Nº 613\, DE 18 DE AGOSTO DE 2022 &#8211\; ACE
 RVO DIGITAL!
CLASS:PUBLIC
DTSTAMP:20260424T024743Z
END:VEVENT
END:VCALENDAR