BEGIN:VCALENDAR
VERSION:2.0
PRODID:https://anup.org.br
BEGIN:VEVENT
UID:69eafdeee27ad
DTSTART:20240410T180000Z
SEQUENCE:0
TRANSP:OPAQUE
DTEND:20240410T220000Z
URL:https://anup.org.br/eventos/o-novo-enade-das-licenciaturas-o-desafio-da
 -qualificacao-da-formacao-de-professores/
LOCATION:Online
SUMMARY:[ANUP] O novo ENADE das Licenciaturas: o desafio da qualificação 
 da formação de professores
CLASS:PUBLIC
DTSTAMP:20260424T052150Z
END:VEVENT
END:VCALENDAR