BEGIN:VCALENDAR
VERSION:2.0
PRODID:https://anup.org.br
BEGIN:VEVENT
UID:69ead81acdc6c
DTSTART:20210910T120000Z
SEQUENCE:0
TRANSP:OPAQUE
DTEND:20210911T000000Z
URL:https://anup.org.br/eventos/premio-sebrae-de-educacao-empreendedora-202
 1/
SUMMARY:[ANUP] Prêmio Sebrae de Educação Empreendedora 2021
CLASS:PUBLIC
DTSTAMP:20260424T024026Z
END:VEVENT
END:VCALENDAR