BEGIN:VCALENDAR
VERSION:2.0
PRODID:https://anup.org.br
BEGIN:VEVENT
UID:69ead7b9701ff
DTSTART:20210705T213000Z
SEQUENCE:0
TRANSP:OPAQUE
DTEND:20210708T023000Z
URL:https://anup.org.br/eventos/publicacao-e-escrita-cientifica/
SUMMARY:[ANUP] Publicação e Escrita Científica
CLASS:PUBLIC
DTSTAMP:20260424T023849Z
END:VEVENT
END:VCALENDAR