BEGIN:VCALENDAR
VERSION:2.0
PRODID:https://anup.org.br
BEGIN:VEVENT
UID:69e4dba010edc
DTSTART:20221123T120000Z
SEQUENCE:0
TRANSP:OPAQUE
DTEND:20221123T220000Z
URL:https://anup.org.br/eventos/relatorios-de-avaliacao-in-loco-quando-e-co
 mo-recorrer/
LOCATION:Florianópolis - SC
SUMMARY:[ANUP] Relatórios de Avaliação in loco: quando e como recorrer
CLASS:PUBLIC
DTSTAMP:20260419T134152Z
END:VEVENT
END:VCALENDAR