BEGIN:VCALENDAR
VERSION:2.0
PRODID:https://anup.org.br
BEGIN:VEVENT
UID:69eaeaf81b935
DTSTART:20230327T123000Z
SEQUENCE:0
TRANSP:OPAQUE
DTEND:20230327T220000Z
URL:https://anup.org.br/eventos/saude-suplementar-jurisprudencia-e-perspect
 ivas/
LOCATION:Brasília - DF
SUMMARY:[ANUP] Saúde Suplementar: Jurisprudência e Perspectivas
CLASS:PUBLIC
DTSTAMP:20260424T040056Z
END:VEVENT
END:VCALENDAR