BEGIN:VCALENDAR
VERSION:2.0
PRODID:https://anup.org.br
BEGIN:VEVENT
UID:69ead8341b1d8
DTSTART:20221104T110000Z
SEQUENCE:0
TRANSP:OPAQUE
DTEND:20221118T160000Z
URL:https://anup.org.br/eventos/topicos-especiais-introducao-a-microbiota-i
 ntestinal/
LOCATION:Araraquara - SP
SUMMARY:[ANUP] Tópicos Especiais: Introdução à Microbiota Intestinal
CLASS:PUBLIC
DTSTAMP:20260424T024052Z
END:VEVENT
END:VCALENDAR