BEGIN:VCALENDAR
VERSION:2.0
PRODID:https://anup.org.br
BEGIN:VEVENT
UID:69ead83f8db31
DTSTART:20221025T223000Z
SEQUENCE:0
TRANSP:OPAQUE
DTEND:20221025T033000Z
URL:https://anup.org.br/eventos/uniara-sedia-workshop-do-festival-ribeirao-
 e-regiao-tech-week/
LOCATION:Ribeirão Preto - SP
SUMMARY:[ANUP] Uniara sedia workshop do Festival Ribeirão e Região Tech W
 eek
CLASS:PUBLIC
DTSTAMP:20260424T024103Z
END:VEVENT
END:VCALENDAR