BEGIN:VCALENDAR
VERSION:2.0
PRODID:https://anup.org.br
BEGIN:VEVENT
UID:69eaff4d917cd
DTSTART:20230807T130000Z
SEQUENCE:0
TRANSP:OPAQUE
DTEND:20230807T180000Z
URL:https://anup.org.br/eventos/webinar-adesao-das-ies-ao-desenrola-brasil-
 como-ajudar-os-alunos-a-quitarem-suas-dividas/
LOCATION:Online
SUMMARY:[ANUP] Webinar “Adesão das IES ao Desenrola Brasil: como ajudar 
 os alunos a quitarem suas dívidas”
CLASS:PUBLIC
DTSTAMP:20260424T052741Z
END:VEVENT
END:VCALENDAR