BEGIN:VCALENDAR
VERSION:2.0
PRODID:https://anup.org.br
BEGIN:VEVENT
UID:69ead89d189d3
DTSTART:20210427T200000Z
SEQUENCE:0
TRANSP:OPAQUE
DTEND:20210428T003000Z
URL:https://anup.org.br/eventos/webinar-beneficios-da-minha-biblioteca-acer
 vo-academico-e-gestao-da-informacao/
SUMMARY:[ANUP] Webinar Benefícios da Minha Biblioteca: Acervo Acadêmico e
  Gestão da Informação
CLASS:PUBLIC
DTSTAMP:20260424T024237Z
END:VEVENT
END:VCALENDAR