BEGIN:VCALENDAR
VERSION:2.0
PRODID:https://anup.org.br
BEGIN:VEVENT
UID:69ead89413556
DTSTART:20210729T120000Z
SEQUENCE:0
TRANSP:OPAQUE
DTEND:20210801T000000Z
URL:https://anup.org.br/eventos/x-forum-de-metodologias-ativas/
SUMMARY:[ANUP] X Fórum de Metodologias Ativas
CLASS:PUBLIC
DTSTAMP:20260424T024228Z
END:VEVENT
END:VCALENDAR