BEGIN:VCALENDAR
VERSION:2.0
PRODID:https://anup.org.br
BEGIN:VEVENT
UID:69e4d3f79b6ef
DTSTART:20221110T113000Z
SEQUENCE:0
TRANSP:OPAQUE
DTEND:20221112T013000Z
URL:https://anup.org.br/eventos/xv-financies-futuro-da-educacao-pos-eleicoe
 s/
LOCATION:Rio de Janeiro - RJ
SUMMARY:[ANUP] &#8220\;O futuro da educação pós-eleições: impactos nas
  finanças&#8221\; – XV Fórum dos Executivos Financeiros para as Instit
 uições de Ensino Privadas do Brasil (FinancIES)
CLASS:PUBLIC
DTSTAMP:20260419T130911Z
END:VEVENT
END:VCALENDAR